Package: ChIPXpress Version: 1.48.0 Command: /Library/Frameworks/R.framework/Resources/bin/R CMD INSTALL ChIPXpress StartedAt: 2024-10-16 16:19:24 -0400 (Wed, 16 Oct 2024) EndedAt: 2024-10-16 16:20:01 -0400 (Wed, 16 Oct 2024) EllapsedTime: 36.4 seconds RetCode: 0 Status: OK