Package: ChIPXpress Version: 1.48.0 Command: rm -rf ChIPXpress.buildbin-libdir && mkdir ChIPXpress.buildbin-libdir && /Users/biocbuild/BBS/utils/build-universal.sh ChIPXpress_1.48.0.tar.gz /Library/Frameworks/R.framework/Resources/bin/R ChIPXpress.buildbin-libdir StartedAt: 2024-06-11 10:34:02 -0400 (Tue, 11 Jun 2024) EndedAt: 2024-06-11 10:35:07 -0400 (Tue, 11 Jun 2024) EllapsedTime: 64.9 seconds RetCode: 0 Status: OK PackageFile: ChIPXpress_1.48.0.tgz PackageFileSize: 469.9 KiB