Package: ChIPXpress Version: 1.48.0 Command: /Library/Frameworks/R.framework/Resources/bin/R CMD build --keep-empty-dirs --no-resave-data ChIPXpress StartedAt: 2024-06-09 19:23:26 -0400 (Sun, 09 Jun 2024) EndedAt: 2024-06-09 19:24:30 -0400 (Sun, 09 Jun 2024) EllapsedTime: 64.3 seconds RetCode: 0 Status: OK PackageFile: ChIPXpress_1.48.0.tar.gz PackageFileSize: 447.1 KiB