Package: ChIPXpress Version: 1.48.0 Command: /home/biocbuild/R/R-beta-2024-04-15_r86425/bin/R CMD check --install=check:ChIPXpress.install-out.txt --library=/home/biocbuild/R/R-beta-2024-04-15_r86425/site-library --no-vignettes --timings ChIPXpress_1.48.0.tar.gz StartedAt: 2024-05-09 05:48:21 -0000 (Thu, 09 May 2024) EndedAt: 2024-05-09 05:53:09 -0000 (Thu, 09 May 2024) EllapsedTime: 287.5 seconds RetCode: 0 Status: OK CheckDir: ChIPXpress.Rcheck Warnings: 0