Package: ChIPXpress Version: 1.48.0 Command: /Library/Frameworks/R.framework/Resources/bin/R CMD check --install=check:ChIPXpress.install-out.txt --library=/Library/Frameworks/R.framework/Resources/library --no-vignettes --timings ChIPXpress_1.48.0.tar.gz StartedAt: 2024-10-17 02:41:23 -0400 (Thu, 17 Oct 2024) EndedAt: 2024-10-17 02:49:53 -0400 (Thu, 17 Oct 2024) EllapsedTime: 509.6 seconds RetCode: 0 Status: OK CheckDir: ChIPXpress.Rcheck Warnings: 0