Package: ChIPXpress Version: 1.48.0 Command: /home/biocbuild/bbs-3.19-bioc/R/bin/R CMD build --keep-empty-dirs --no-resave-data ChIPXpress StartedAt: 2024-10-16 17:43:47 -0400 (Wed, 16 Oct 2024) EndedAt: 2024-10-16 17:44:36 -0400 (Wed, 16 Oct 2024) EllapsedTime: 49.1 seconds RetCode: 0 Status: OK PackageFile: ChIPXpress_1.48.0.tar.gz PackageFileSize: 310.5 KiB