Package: ChIPexoQual Version: 1.28.0 Command: /Library/Frameworks/R.framework/Resources/bin/R CMD build --keep-empty-dirs --no-resave-data ChIPexoQual StartedAt: 2024-10-16 21:18:32 -0400 (Wed, 16 Oct 2024) EndedAt: 2024-10-16 21:21:35 -0400 (Wed, 16 Oct 2024) EllapsedTime: 182.6 seconds RetCode: 0 Status: OK PackageFile: ChIPexoQual_1.28.0.tar.gz PackageFileSize: 2.457 MiB