Package: ChIPexoQual Version: 1.28.0 Command: rm -rf ChIPexoQual.buildbin-libdir && mkdir ChIPexoQual.buildbin-libdir && /Users/biocbuild/BBS/utils/build-universal.sh ChIPexoQual_1.28.0.tar.gz /Library/Frameworks/R.framework/Resources/bin/R ChIPexoQual.buildbin-libdir StartedAt: 2024-10-17 15:50:26 -0400 (Thu, 17 Oct 2024) EndedAt: 2024-10-17 15:52:13 -0400 (Thu, 17 Oct 2024) EllapsedTime: 106.9 seconds RetCode: 0 Status: OK PackageFile: ChIPexoQual_1.28.0.tgz PackageFileSize: 2.52 MiB