Package: ChIPexoQual Version: 1.28.0 Command: rm -rf ChIPexoQual.buildbin-libdir && mkdir ChIPexoQual.buildbin-libdir && F:\biocbuild\bbs-3.19-bioc\R\bin\R.exe CMD INSTALL --build --library=ChIPexoQual.buildbin-libdir ChIPexoQual_1.28.0.tar.gz StartedAt: 2024-06-27 07:58:57 -0400 (Thu, 27 Jun 2024) EndedAt: 2024-06-27 07:59:57 -0400 (Thu, 27 Jun 2024) EllapsedTime: 59.8 seconds RetCode: 0 Status: OK PackageFile: ChIPexoQual_1.28.0.zip PackageFileSize: 2.196 MiB