Package: ChIPpeakAnno Version: 3.38.0 Command: rm -rf ChIPpeakAnno.buildbin-libdir && mkdir ChIPpeakAnno.buildbin-libdir && /Users/biocbuild/BBS/utils/build-universal.sh ChIPpeakAnno_3.38.0.tar.gz /Library/Frameworks/R.framework/Resources/bin/R ChIPpeakAnno.buildbin-libdir StartedAt: 2024-06-11 10:32:40 -0400 (Tue, 11 Jun 2024) EndedAt: 2024-06-11 10:36:22 -0400 (Tue, 11 Jun 2024) EllapsedTime: 222.7 seconds RetCode: 0 Status: OK PackageFile: ChIPpeakAnno_3.38.0.tgz PackageFileSize: 22.57 MiB