Package: ChIPpeakAnno Version: 3.38.0 Command: /Library/Frameworks/R.framework/Resources/bin/R CMD check --install=check:ChIPpeakAnno.install-out.txt --library=/Library/Frameworks/R.framework/Resources/library --no-vignettes --timings ChIPpeakAnno_3.38.0.tar.gz StartedAt: 2024-06-10 10:18:23 -0400 (Mon, 10 Jun 2024) EndedAt: 2024-06-10 10:38:06 -0400 (Mon, 10 Jun 2024) EllapsedTime: 1182.9 seconds RetCode: 0 Status: OK CheckDir: ChIPpeakAnno.Rcheck Warnings: 0