Package: ChIPpeakAnno Version: 3.37.4 Command: rm -rf ChIPpeakAnno.buildbin-libdir && mkdir ChIPpeakAnno.buildbin-libdir && /Users/biocbuild/BBS/utils/build-universal.sh ChIPpeakAnno_3.37.4.tar.gz /Library/Frameworks/R.framework/Resources/bin/R ChIPpeakAnno.buildbin-libdir StartedAt: 2024-02-05 10:43:42 -0500 (Mon, 05 Feb 2024) EndedAt: 2024-02-05 10:47:28 -0500 (Mon, 05 Feb 2024) EllapsedTime: 225.9 seconds RetCode: 0 Status: OK PackageFile: ChIPpeakAnno_3.37.4.tgz PackageFileSize: 22.56 MiB