Package: ChIPpeakAnno Version: 3.38.1 Command: /Library/Frameworks/R.framework/Resources/bin/R CMD build --keep-empty-dirs --no-resave-data ChIPpeakAnno StartedAt: 2024-10-16 17:54:35 -0400 (Wed, 16 Oct 2024) EndedAt: 2024-10-16 18:34:36 -0400 (Wed, 16 Oct 2024) EllapsedTime: 2400.9 seconds RetCode: None Status: TIMEOUT PackageFile: None PackageFileSize: NA