Package: ChIPpeakAnno Version: 3.37.4 Command: /Library/Frameworks/R.framework/Resources/bin/R CMD check --install=check:ChIPpeakAnno.install-out.txt --library=/Library/Frameworks/R.framework/Resources/library --no-vignettes --timings ChIPpeakAnno_3.37.4.tar.gz StartedAt: 2024-02-05 00:24:51 -0500 (Mon, 05 Feb 2024) EndedAt: 2024-02-05 00:45:51 -0500 (Mon, 05 Feb 2024) EllapsedTime: 1260.2 seconds RetCode: 0 Status: OK CheckDir: ChIPpeakAnno.Rcheck Warnings: 0