Package: ChIPpeakAnno Version: 3.38.1 Command: /Library/Frameworks/R.framework/Resources/bin/R CMD INSTALL ChIPpeakAnno StartedAt: 2024-10-16 16:25:23 -0400 (Wed, 16 Oct 2024) EndedAt: 2024-10-16 16:28:58 -0400 (Wed, 16 Oct 2024) EllapsedTime: 215.0 seconds RetCode: 0 Status: OK