Package: ChIPseeker Version: 1.40.0 Command: rm -rf ChIPseeker.buildbin-libdir && mkdir ChIPseeker.buildbin-libdir && /Users/biocbuild/BBS/utils/build-universal.sh ChIPseeker_1.40.0.tar.gz /Library/Frameworks/R.framework/Resources/bin/R ChIPseeker.buildbin-libdir StartedAt: 2024-10-17 15:50:34 -0400 (Thu, 17 Oct 2024) EndedAt: 2024-10-17 15:52:30 -0400 (Thu, 17 Oct 2024) EllapsedTime: 116.1 seconds RetCode: 0 Status: OK PackageFile: ChIPseeker_1.40.0.tgz PackageFileSize: 7.27 MiB