Package: ChIPseqR Version: 1.58.0 Command: /Library/Frameworks/R.framework/Resources/bin/R CMD check --install=check:ChIPseqR.install-out.txt --library=/Library/Frameworks/R.framework/Resources/library --no-vignettes --timings ChIPseqR_1.58.0.tar.gz StartedAt: 2024-10-17 16:01:49 -0400 (Thu, 17 Oct 2024) EndedAt: 2024-10-17 16:07:20 -0400 (Thu, 17 Oct 2024) EllapsedTime: 331.3 seconds RetCode: 0 Status: OK CheckDir: ChIPseqR.Rcheck Warnings: 0