Package: ChIPseqR Version: 1.58.0 Command: /Library/Frameworks/R.framework/Resources/bin/R CMD INSTALL ChIPseqR StartedAt: 2024-10-16 16:52:56 -0400 (Wed, 16 Oct 2024) EndedAt: 2024-10-16 16:53:38 -0400 (Wed, 16 Oct 2024) EllapsedTime: 42.4 seconds RetCode: 0 Status: OK