Package: ChIPseqR Version: 1.58.0 Command: /Library/Frameworks/R.framework/Resources/bin/R CMD build --keep-empty-dirs --no-resave-data ChIPseqR StartedAt: 2024-06-09 19:21:50 -0400 (Sun, 09 Jun 2024) EndedAt: 2024-06-09 19:23:26 -0400 (Sun, 09 Jun 2024) EllapsedTime: 96.1 seconds RetCode: 0 Status: OK PackageFile: ChIPseqR_1.58.0.tar.gz PackageFileSize: 729.4 KiB