Package: ChIPseqR Version: 1.58.0 Command: /Library/Frameworks/R.framework/Resources/bin/R CMD build --keep-empty-dirs --no-resave-data ChIPseqR StartedAt: 2024-06-09 16:10:28 -0400 (Sun, 09 Jun 2024) EndedAt: 2024-06-09 16:11:44 -0400 (Sun, 09 Jun 2024) EllapsedTime: 76.1 seconds RetCode: 0 Status: OK PackageFile: ChIPseqR_1.58.0.tar.gz PackageFileSize: 729.1 KiB