Package: ChIPseqR Version: 1.58.0 Command: /Library/Frameworks/R.framework/Resources/bin/R CMD check --install=check:ChIPseqR.install-out.txt --library=/Library/Frameworks/R.framework/Resources/library --no-vignettes --timings ChIPseqR_1.58.0.tar.gz StartedAt: 2024-06-09 19:23:56 -0400 (Sun, 09 Jun 2024) EndedAt: 2024-06-09 19:28:16 -0400 (Sun, 09 Jun 2024) EllapsedTime: 259.7 seconds RetCode: 0 Status: OK CheckDir: ChIPseqR.Rcheck Warnings: 0