Package: ChIPseqR Version: 1.58.0 Command: /home/biocbuild/bbs-3.19-bioc/R/bin/R CMD build --keep-empty-dirs --no-resave-data ChIPseqR StartedAt: 2024-10-16 17:42:46 -0400 (Wed, 16 Oct 2024) EndedAt: 2024-10-16 17:43:56 -0400 (Wed, 16 Oct 2024) EllapsedTime: 70.1 seconds RetCode: 0 Status: OK PackageFile: ChIPseqR_1.58.0.tar.gz PackageFileSize: 545.9 KiB