Package: ChIPseqR Version: 1.58.0 Command: /home/biocbuild/bbs-3.19-bioc/R/bin/R CMD INSTALL ChIPseqR StartedAt: 2024-10-16 16:24:47 -0400 (Wed, 16 Oct 2024) EndedAt: 2024-10-16 16:25:21 -0400 (Wed, 16 Oct 2024) EllapsedTime: 33.5 seconds RetCode: 0 Status: OK