Package: ChIPseqR Version: 1.58.0 Command: rm -rf ChIPseqR.buildbin-libdir && mkdir ChIPseqR.buildbin-libdir && F:\biocbuild\bbs-3.19-bioc\R\bin\R.exe CMD INSTALL --build --library=ChIPseqR.buildbin-libdir ChIPseqR_1.58.0.tar.gz StartedAt: 2024-06-27 07:59:06 -0400 (Thu, 27 Jun 2024) EndedAt: 2024-06-27 08:00:04 -0400 (Thu, 27 Jun 2024) EllapsedTime: 58.0 seconds RetCode: 0 Status: OK PackageFile: ChIPseqR_1.58.0.zip PackageFileSize: 1.339 MiB