Package: ChIPseqR Version: 1.58.0 Command: chmod a+r ChIPseqR -R && F:\biocbuild\bbs-3.19-bioc\R\bin\R.exe CMD build --keep-empty-dirs --no-resave-data ChIPseqR StartedAt: 2024-06-26 17:46:55 -0400 (Wed, 26 Jun 2024) EndedAt: 2024-06-26 17:48:26 -0400 (Wed, 26 Jun 2024) EllapsedTime: 91.4 seconds RetCode: 0 Status: OK PackageFile: ChIPseqR_1.58.0.tar.gz PackageFileSize: 547.9 KiB