Package: ChIPseqR Version: 1.58.0 Command: F:\biocbuild\bbs-3.19-bioc\R\bin\R.exe CMD INSTALL ChIPseqR StartedAt: 2024-06-26 16:26:09 -0400 (Wed, 26 Jun 2024) EndedAt: 2024-06-26 16:27:03 -0400 (Wed, 26 Jun 2024) EllapsedTime: 53.4 seconds RetCode: 0 Status: OK