Package: ChIPseqR Version: 1.58.0 Command: rm -rf ChIPseqR.buildbin-libdir && mkdir ChIPseqR.buildbin-libdir && E:\biocbuild\bbs-3.19-bioc\R\bin\R.exe CMD INSTALL --build --library=ChIPseqR.buildbin-libdir ChIPseqR_1.58.0.tar.gz StartedAt: 2024-10-17 07:31:55 -0400 (Thu, 17 Oct 2024) EndedAt: 2024-10-17 07:32:51 -0400 (Thu, 17 Oct 2024) EllapsedTime: 56.1 seconds RetCode: 0 Status: OK PackageFile: ChIPseqR_1.58.0.zip PackageFileSize: 1.341 MiB