Package: ChIPsim Version: 1.58.0 Command: /Library/Frameworks/R.framework/Resources/bin/R CMD build --keep-empty-dirs --no-resave-data ChIPsim StartedAt: 2024-06-09 19:22:37 -0400 (Sun, 09 Jun 2024) EndedAt: 2024-06-09 19:24:07 -0400 (Sun, 09 Jun 2024) EllapsedTime: 90.2 seconds RetCode: 0 Status: OK PackageFile: ChIPsim_1.58.0.tar.gz PackageFileSize: 647.5 KiB