Package: ChemmineR Version: 3.56.0 Command: /Library/Frameworks/R.framework/Resources/bin/R CMD build --keep-empty-dirs --no-resave-data ChemmineR StartedAt: 2024-10-16 21:16:36 -0400 (Wed, 16 Oct 2024) EndedAt: 2024-10-16 21:17:42 -0400 (Wed, 16 Oct 2024) EllapsedTime: 66.5 seconds RetCode: 0 Status: OK PackageFile: ChemmineR_3.56.0.tar.gz PackageFileSize: 2.245 MiB