Package: ChemmineR Version: 3.56.0 Command: rm -rf ChemmineR.buildbin-libdir && mkdir ChemmineR.buildbin-libdir && /Users/biocbuild/BBS/utils/build-universal.sh ChemmineR_3.56.0.tar.gz /Library/Frameworks/R.framework/Resources/bin/R ChemmineR.buildbin-libdir StartedAt: 2024-06-06 00:16:00 -0400 (Thu, 06 Jun 2024) EndedAt: 2024-06-06 00:16:41 -0400 (Thu, 06 Jun 2024) EllapsedTime: 41.2 seconds RetCode: 0 Status: OK PackageFile: ChemmineR_3.56.0.tgz PackageFileSize: 2.613 MiB