Package: ChemmineR Version: 3.56.0 Command: F:\biocbuild\bbs-3.19-bioc\R\bin\R.exe CMD INSTALL ChemmineR StartedAt: 2024-06-26 16:44:36 -0400 (Wed, 26 Jun 2024) EndedAt: 2024-06-26 16:45:35 -0400 (Wed, 26 Jun 2024) EllapsedTime: 59.8 seconds RetCode: 0 Status: OK