Package: ChemmineR Version: 3.56.0 Command: E:\biocbuild\bbs-3.19-bioc\R\bin\R.exe CMD check --no-multiarch --install=check:ChemmineR.install-out.txt --library=E:\biocbuild\bbs-3.19-bioc\R\library --no-vignettes --timings ChemmineR_3.56.0.tar.gz StartedAt: 2024-10-16 23:54:55 -0400 (Wed, 16 Oct 2024) EndedAt: 2024-10-16 23:57:37 -0400 (Wed, 16 Oct 2024) EllapsedTime: 162.3 seconds RetCode: 0 Status: WARNINGS CheckDir: ChemmineR.Rcheck Warnings: 2