Package: Chicago Version: 1.32.0 Command: /Library/Frameworks/R.framework/Resources/bin/R CMD check --install=check:Chicago.install-out.txt --library=/Library/Frameworks/R.framework/Resources/library --no-vignettes --timings Chicago_1.32.0.tar.gz StartedAt: 2024-06-10 10:14:57 -0400 (Mon, 10 Jun 2024) EndedAt: 2024-06-10 10:18:23 -0400 (Mon, 10 Jun 2024) EllapsedTime: 206.1 seconds RetCode: 0 Status: OK CheckDir: Chicago.Rcheck Warnings: 0