Package: Chicago Version: 1.32.0 Command: chmod a+r Chicago -R && F:\biocbuild\bbs-3.19-bioc\R\bin\R.exe CMD build --keep-empty-dirs --no-resave-data Chicago StartedAt: 2024-06-26 17:45:11 -0400 (Wed, 26 Jun 2024) EndedAt: 2024-06-26 17:47:20 -0400 (Wed, 26 Jun 2024) EllapsedTime: 128.4 seconds RetCode: 0 Status: OK PackageFile: Chicago_1.32.0.tar.gz PackageFileSize: 785.6 KiB