Package: ChromSCape Version: 1.14.0 Command: /Library/Frameworks/R.framework/Resources/bin/R CMD check --install=check:ChromSCape.install-out.txt --library=/Library/Frameworks/R.framework/Resources/library --no-vignettes --timings ChromSCape_1.14.0.tar.gz StartedAt: 2024-10-17 16:08:07 -0400 (Thu, 17 Oct 2024) EndedAt: 2024-10-17 16:24:57 -0400 (Thu, 17 Oct 2024) EllapsedTime: 1009.8 seconds RetCode: 0 Status: WARNINGS CheckDir: ChromSCape.Rcheck Warnings: 3