Package: ChromSCape Version: 1.14.0 Command: /Library/Frameworks/R.framework/Resources/bin/R CMD build --keep-empty-dirs --no-resave-data ChromSCape StartedAt: 2024-06-09 19:24:30 -0400 (Sun, 09 Jun 2024) EndedAt: 2024-06-09 19:26:01 -0400 (Sun, 09 Jun 2024) EllapsedTime: 90.6 seconds RetCode: 0 Status: OK PackageFile: ChromSCape_1.14.0.tar.gz PackageFileSize: 5.304 MiB