Package: ChromSCape Version: 1.14.0 Command: /Library/Frameworks/R.framework/Resources/bin/R CMD INSTALL ChromSCape StartedAt: 2024-06-09 17:46:00 -0400 (Sun, 09 Jun 2024) EndedAt: 2024-06-09 17:47:10 -0400 (Sun, 09 Jun 2024) EllapsedTime: 69.9 seconds RetCode: 0 Status: OK