Package: ChromSCape Version: 1.14.0 Command: /Library/Frameworks/R.framework/Resources/bin/R CMD build --keep-empty-dirs --no-resave-data ChromSCape StartedAt: 2024-10-16 17:56:38 -0400 (Wed, 16 Oct 2024) EndedAt: 2024-10-16 17:59:26 -0400 (Wed, 16 Oct 2024) EllapsedTime: 167.7 seconds RetCode: 0 Status: OK PackageFile: ChromSCape_1.14.0.tar.gz PackageFileSize: 5.303 MiB