Package: ChromSCape Version: 1.14.0 Command: rm -rf ChromSCape.buildbin-libdir && mkdir ChromSCape.buildbin-libdir && F:\biocbuild\bbs-3.19-bioc\R\bin\R.exe CMD INSTALL --build --library=ChromSCape.buildbin-libdir ChromSCape_1.14.0.tar.gz StartedAt: 2024-06-27 07:59:38 -0400 (Thu, 27 Jun 2024) EndedAt: 2024-06-27 08:01:20 -0400 (Thu, 27 Jun 2024) EllapsedTime: 101.3 seconds RetCode: 0 Status: OK PackageFile: ChromSCape_1.14.0.zip PackageFileSize: 6.107 MiB