Package: ChromSCape Version: 1.14.0 Command: rm -rf ChromSCape.buildbin-libdir && mkdir ChromSCape.buildbin-libdir && E:\biocbuild\bbs-3.19-bioc\R\bin\R.exe CMD INSTALL --build --library=ChromSCape.buildbin-libdir ChromSCape_1.14.0.tar.gz StartedAt: 2024-10-17 07:32:12 -0400 (Thu, 17 Oct 2024) EndedAt: 2024-10-17 07:34:00 -0400 (Thu, 17 Oct 2024) EllapsedTime: 108.2 seconds RetCode: 0 Status: OK PackageFile: ChromSCape_1.14.0.zip PackageFileSize: 6.108 MiB