Package: ClassifyR Version: 3.8.5 Command: rm -rf ClassifyR.buildbin-libdir && mkdir ClassifyR.buildbin-libdir && /Users/biocbuild/BBS/utils/build-universal.sh ClassifyR_3.8.5.tar.gz /Library/Frameworks/R.framework/Resources/bin/R ClassifyR.buildbin-libdir StartedAt: 2024-10-18 17:48:17 -0400 (Fri, 18 Oct 2024) EndedAt: 2024-10-18 17:49:08 -0400 (Fri, 18 Oct 2024) EllapsedTime: 51.0 seconds RetCode: 0 Status: OK PackageFile: ClassifyR_3.8.5.tgz PackageFileSize: 2.256 MiB