Package: ClassifyR Version: 3.8.5 Command: /Library/Frameworks/R.framework/Resources/bin/R CMD check --install=check:ClassifyR.install-out.txt --library=/Library/Frameworks/R.framework/Resources/library --no-vignettes --timings ClassifyR_3.8.5.tar.gz StartedAt: 2024-10-17 16:21:14 -0400 (Thu, 17 Oct 2024) EndedAt: 2024-10-17 16:32:44 -0400 (Thu, 17 Oct 2024) EllapsedTime: 690.6 seconds RetCode: 0 Status: WARNINGS CheckDir: ClassifyR.Rcheck Warnings: 1