Package: ClassifyR Version: 3.8.2 Command: /Library/Frameworks/R.framework/Resources/bin/R CMD check --install=check:ClassifyR.install-out.txt --library=/Library/Frameworks/R.framework/Resources/library --no-vignettes --timings ClassifyR_3.8.2.tar.gz StartedAt: 2024-06-10 10:40:07 -0400 (Mon, 10 Jun 2024) EndedAt: 2024-06-10 11:18:22 -0400 (Mon, 10 Jun 2024) EllapsedTime: 2295.3 seconds RetCode: 0 Status: WARNINGS CheckDir: ClassifyR.Rcheck Warnings: 1