Package: ClassifyR Version: 3.8.0 Command: /home/biocbuild/R/R-beta-2024-04-15_r86425/bin/R CMD build --keep-empty-dirs --no-resave-data ClassifyR StartedAt: 2024-05-08 23:19:26 -0000 (Wed, 08 May 2024) EndedAt: 2024-05-08 23:31:11 -0000 (Wed, 08 May 2024) EllapsedTime: 705.2 seconds RetCode: 0 Status: OK PackageFile: ClassifyR_3.8.0.tar.gz PackageFileSize: 1.99 MiB