Package: ClassifyR Version: 3.8.2 Command: /Library/Frameworks/R.framework/Resources/bin/R CMD check --install=check:ClassifyR.install-out.txt --library=/Library/Frameworks/R.framework/Resources/library --no-vignettes --timings ClassifyR_3.8.2.tar.gz StartedAt: 2024-06-09 19:26:09 -0400 (Sun, 09 Jun 2024) EndedAt: 2024-06-09 19:45:41 -0400 (Sun, 09 Jun 2024) EllapsedTime: 1172.2 seconds RetCode: 0 Status: WARNINGS CheckDir: ClassifyR.Rcheck Warnings: 1