Package: ClassifyR Version: 3.8.5 Command: /Library/Frameworks/R.framework/Resources/bin/R CMD INSTALL ClassifyR StartedAt: 2024-10-16 16:47:42 -0400 (Wed, 16 Oct 2024) EndedAt: 2024-10-16 16:49:02 -0400 (Wed, 16 Oct 2024) EllapsedTime: 80.5 seconds RetCode: 0 Status: OK