Package: ClassifyR Version: 3.8.5 Command: /home/biocbuild/bbs-3.19-bioc/R/bin/R CMD INSTALL ClassifyR StartedAt: 2024-10-16 16:45:06 -0400 (Wed, 16 Oct 2024) EndedAt: 2024-10-16 16:45:39 -0400 (Wed, 16 Oct 2024) EllapsedTime: 32.4 seconds RetCode: 0 Status: OK