Package: ClassifyR Version: 3.8.5 Command: chmod a+r ClassifyR -R && E:\biocbuild\bbs-3.19-bioc\R\bin\R.exe CMD build --keep-empty-dirs --no-resave-data ClassifyR StartedAt: 2024-10-16 18:14:13 -0400 (Wed, 16 Oct 2024) EndedAt: 2024-10-16 18:25:32 -0400 (Wed, 16 Oct 2024) EllapsedTime: 679.4 seconds RetCode: 0 Status: OK PackageFile: ClassifyR_3.8.5.tar.gz PackageFileSize: 1.897 MiB