Package: ClassifyR Version: 3.8.5 Command: E:\biocbuild\bbs-3.19-bioc\R\bin\R.exe CMD INSTALL ClassifyR StartedAt: 2024-10-16 17:19:48 -0400 (Wed, 16 Oct 2024) EndedAt: 2024-10-16 17:21:51 -0400 (Wed, 16 Oct 2024) EllapsedTime: 122.5 seconds RetCode: 0 Status: OK