Package: Clomial Version: 1.40.0 Command: rm -rf Clomial.buildbin-libdir && mkdir Clomial.buildbin-libdir && /Users/biocbuild/BBS/utils/build-universal.sh Clomial_1.40.0.tar.gz /Library/Frameworks/R.framework/Resources/bin/R Clomial.buildbin-libdir StartedAt: 2024-10-18 17:49:08 -0400 (Fri, 18 Oct 2024) EndedAt: 2024-10-18 17:49:13 -0400 (Fri, 18 Oct 2024) EllapsedTime: 4.6 seconds RetCode: 0 Status: OK PackageFile: Clomial_1.40.0.tgz PackageFileSize: 1.524 MiB